BEGIN:VCALENDAR
VERSION:2.0
PRODID:-//ChamberMaster//Event Calendar 2.0//EN
METHOD:PUBLISH
X-PUBLISHED-TTL:P3D
REFRESH-INTERVAL:P3D
CALSCALE:GREGORIAN
BEGIN:VEVENT
DTSTART:20210106T193000Z
DTEND:20210106T203000Z
X-MICROSOFT-CDO-ALLDAYEVENT:FALSE
SUMMARY:VCC Commission Meeting
DESCRIPTION:
X-ALT-DESC;FMTTYPE=text/html:
LOCATION:City Hall 1300 Perdido Street City Council Chambers
UID:e.9043.1954
SEQUENCE:3
DTSTAMP:20260422T175507Z
URL:https://members.fqba.org/events/details/vcc-commission-meeting-01-06-2021-1954
END:VEVENT

END:VCALENDAR
