BEGIN:VCALENDAR
VERSION:2.0
PRODID:-//ChamberMaster//Event Calendar 2.0//EN
METHOD:PUBLISH
X-PUBLISHED-TTL:P3D
REFRESH-INTERVAL:P3D
CALSCALE:GREGORIAN
BEGIN:VEVENT
DTSTART:20251210T233000Z
DTEND:20251211T013000Z
X-MICROSOFT-CDO-ALLDAYEVENT:FALSE
SUMMARY:Holiday Jingle & Mingle
DESCRIPTION:FQBA's Holiday Jingle & Mingle\n\nHistoric BK House\n\n1113 Chartres Street\n\nWednesday\, December 10
X-ALT-DESC;FMTTYPE=text/html:FQBA&#39\;s Holiday Jingle &amp\; Mingle<br />\nHistoric BK House<br />\n1113 Chartres Street<br />\nWednesday\, December 10
LOCATION:Historic BK House 1113 Chartres Street
UID:e.9043.2851
SEQUENCE:3
DTSTAMP:20260421T114308Z
URL:https://members.fqba.org/events/details/holiday-jingle-mingle-2851
END:VEVENT

END:VCALENDAR
